BEGIN:VCALENDAR
VERSION:2.0
PRODID:-//Tukios.com/
BEGIN:VEVENT
UID:6352e8fb-df29-45b7-b1ee-a8517a2f4e27@www.edwardsandsonfuneralhome.com
DTSTAMP:20260422T180334Z
DTSTART:20260430T150000Z
DTEND:20260430T161500Z
SUMMARY:Memorial Service
DESCRIPTION:
URL:https://www.edwardsandsonfuneralhome.com/obituaries/adam-cooper-2026-1
LOCATION:Victory In Christ Christian Center 1055 Delsea Dr  Westville NJ 
	08093
GEO:39.8549592;-75.1234219
END:VEVENT
END:VCALENDAR