BEGIN:VCALENDAR
VERSION:2.0
PRODID:-//Tukios.com/
BEGIN:VEVENT
UID:5abf4403-6cfb-49db-a1e6-5c00bd0861a8@www.edwardsandsonfuneralhome.com
DTSTAMP:20260423T174440Z
DTSTART:20260505T150000Z
DTEND:20260505T160000Z
SUMMARY:Memorial Service
DESCRIPTION:
URL:https://www.edwardsandsonfuneralhome.com/obituaries/choon-smith
LOCATION:St. Joan Of Arc 100 Willow Bend Road  Marlton NJ 08053
GEO:39.8820202;-74.9061528
END:VEVENT
END:VCALENDAR