BEGIN:VCALENDAR
VERSION:2.0
PRODID:-//Tukios.com/
BEGIN:VEVENT
UID:e1d34006-5ffd-4f76-a5e4-9641f40ed0b2@www.edwardsandsonfuneralhome.com
DTSTAMP:20260423T195134Z
DTSTART:20260424T170000Z
DTEND:20260424T180000Z
SUMMARY:Memorial Service
DESCRIPTION:
URL:https://www.edwardsandsonfuneralhome.com/obituaries/jerom-lane-sr
LOCATION: 33 South Burlington Road  Bridgeton NJ 08302
GEO:39.423294;-75.210097
END:VEVENT
END:VCALENDAR