BEGIN:VCALENDAR
VERSION:2.0
PRODID:-//Tukios.com/
BEGIN:VEVENT
UID:3349892a-6c03-403d-bb99-43fdc2c254df@www.edwardsandsonfuneralhome.com
DTSTAMP:20260420T225959Z
DTSTART:20260425T130000Z
DTEND:20260425T150000Z
SUMMARY:Viewing
DESCRIPTION:
URL:https://www.edwardsandsonfuneralhome.com/obituaries/terry-fields
LOCATION:New Hope Baptist Church 47 Schaffer Ave.  Cedarville NJ 08311
GEO:39.3440099;-75.1996194
END:VEVENT
END:VCALENDAR