BEGIN:VCALENDAR
VERSION:2.0
PRODID:-//Tukios.com/
BEGIN:VEVENT
UID:087d3e53-0700-446f-b095-017fddce890a@www.edwardsandsonfuneralhome.com
DTSTAMP:20260420T230007Z
DTSTART:20260425T150000Z
DTEND:20260425T161500Z
SUMMARY:Funeral Service
DESCRIPTION:
URL:https://www.edwardsandsonfuneralhome.com/obituaries/terry-fields
LOCATION:New Hope Baptist Church 47 Schaffer Ave.  Cedarville NJ 08311
GEO:39.3440099;-75.1996194
END:VEVENT
END:VCALENDAR