BEGIN:VCALENDAR
VERSION:2.0
PRODID:-//Tukios.com/
BEGIN:VEVENT
UID:556bf3ff-417d-440c-a921-1db45874c87b@www.edwardsandsonfuneralhome.com
DTSTAMP:20260420T230358Z
DTSTART:20260427T170000Z
DTEND:20260427T173000Z
SUMMARY:Burial
DESCRIPTION:
URL:https://www.edwardsandsonfuneralhome.com/obituaries/terry-fields
LOCATION: 350 Provincline Rd  Wrightstown NJ 08562
GEO:40.0935376;-74.5640937
END:VEVENT
END:VCALENDAR